BEGIN:VCALENDAR
VERSION:2.0
BEGIN:VEVENT
URL:https://wranglerstudios.oztix.com.au/outlet/event/e19a3011-adf1-4b84-b1f0-55092d074c19
DTSTART:20210417T070000Z
DTEND:20210417T070000Z
SUMMARY:CANCELLED - Sunflower East Coast Tour
DESCRIPTION:Event details: https://wranglerstudios.oztix.com.au/outlet/event/e19a3011-adf1-4b84-b1f0-55092d074c19
LOCATION:Wrangler Studios (West Footscray, VIC)
END:VEVENT
END:VCALENDAR