BEGIN:VCALENDAR
VERSION:2.0
BEGIN:VEVENT
URL:https://wranglerstudios.oztix.com.au/outlet/event/df93859b-9e5c-4efa-b581-64e24b4bf14d
DTSTART:20210306T070000Z
DTEND:20210306T070000Z
SUMMARY:littleblood at wrangler studios
DESCRIPTION:Event details: https://wranglerstudios.oztix.com.au/outlet/event/df93859b-9e5c-4efa-b581-64e24b4bf14d
LOCATION:Wrangler Studios (West Footscray, VIC)
END:VEVENT
END:VCALENDAR