BEGIN:VCALENDAR
VERSION:2.0
BEGIN:VEVENT
URL:https://wranglerstudios.oztix.com.au/outlet/event/dac2badb-d6de-4bcb-b2b9-dbb669c49184
DTSTART:20210424T070000Z
DTEND:20210424T070000Z
SUMMARY:Press Club - The Electric Eagle Soars Again 2021 Tour
DESCRIPTION:Event details: https://wranglerstudios.oztix.com.au/outlet/event/dac2badb-d6de-4bcb-b2b9-dbb669c49184
LOCATION:Wrangler Studios (West Footscray, VIC)
END:VEVENT
END:VCALENDAR