BEGIN:VCALENDAR
VERSION:2.0
BEGIN:VEVENT
URL:https://wranglerstudios.oztix.com.au/outlet/event/a7be567f-f59a-46e6-91ab-98af51d29249
DTSTART:20210514T083000Z
DTEND:20210514T083000Z
SUMMARY:The Dreggs "Head Above The Water" Tour
DESCRIPTION:Event details: https://wranglerstudios.oztix.com.au/outlet/event/a7be567f-f59a-46e6-91ab-98af51d29249
LOCATION:Wrangler Studios (West Footscray, VIC)
END:VEVENT
END:VCALENDAR