BEGIN:VCALENDAR
VERSION:2.0
BEGIN:VEVENT
URL:https://wranglerstudios.oztix.com.au/outlet/event/99798cd7-a55e-4ae9-9b54-cd116c1c7481
DTSTART:20211113T060000Z
DTEND:20211113T060000Z
SUMMARY:AViVA - Australian Tour
DESCRIPTION:Event details: https://wranglerstudios.oztix.com.au/outlet/event/99798cd7-a55e-4ae9-9b54-cd116c1c7481
LOCATION:Wrangler Studios (West Footscray, VIC)
END:VEVENT
END:VCALENDAR