BEGIN:VCALENDAR
VERSION:2.0
BEGIN:VEVENT
URL:https://wranglerstudios.oztix.com.au/outlet/event/85c65c57-590a-456b-84f0-b8d56047ca1c
DTSTART:20210307T063000Z
DTEND:20210307T063000Z
SUMMARY:RAT!Hammock at Wrangler Studios
DESCRIPTION:Event details: https://wranglerstudios.oztix.com.au/outlet/event/85c65c57-590a-456b-84f0-b8d56047ca1c
LOCATION:Wrangler Studios (West Footscray, VIC)
END:VEVENT
END:VCALENDAR