BEGIN:VCALENDAR
VERSION:2.0
BEGIN:VEVENT
URL:https://wranglerstudios.oztix.com.au/outlet/event/545de72a-8880-4c26-97ab-f92d72434607
DTSTART:20210313T010000Z
DTEND:20210313T010000Z
SUMMARY:Cousin Tony's Brand New Firebird at Wrangler Studios
DESCRIPTION:Event details: https://wranglerstudios.oztix.com.au/outlet/event/545de72a-8880-4c26-97ab-f92d72434607
LOCATION:Wrangler Studios (West Footscray, VIC)
END:VEVENT
END:VCALENDAR