BEGIN:VCALENDAR
VERSION:2.0
BEGIN:VEVENT
URL:https://wranglerstudios.oztix.com.au/outlet/event/4312fdea-b625-448c-8906-cc67ace1e5fc
DTSTART:20210312T070000Z
DTEND:20210312T070000Z
SUMMARY:Fortress Rising
DESCRIPTION:Event details: https://wranglerstudios.oztix.com.au/outlet/event/4312fdea-b625-448c-8906-cc67ace1e5fc
LOCATION:Wrangler Studios (West Footscray, VIC)
END:VEVENT
END:VCALENDAR