BEGIN:VCALENDAR
VERSION:2.0
BEGIN:VEVENT
URL:https://wranglerstudios.oztix.com.au/outlet/event/17c3822d-7c36-4db4-8cb3-6f168c83385b
DTSTART:20210328T040000Z
DTEND:20210328T040000Z
SUMMARY:Matilda Pearl at Wrangler Studios
DESCRIPTION:Event details: https://wranglerstudios.oztix.com.au/outlet/event/17c3822d-7c36-4db4-8cb3-6f168c83385b
LOCATION:Wrangler Studios (West Footscray, VIC)
END:VEVENT
END:VCALENDAR